BEGIN:VCALENDAR
VERSION:2.0
PRODID:-//Laren Jazz - Jazz festival Laren - ECPv6.15.20//NONSGML v1.0//EN
CALSCALE:GREGORIAN
METHOD:PUBLISH
X-ORIGINAL-URL:https://laren-jazz.nl
X-WR-CALDESC:Evenementen voor Laren Jazz - Jazz festival Laren
REFRESH-INTERVAL;VALUE=DURATION:PT1H
X-Robots-Tag:noindex
X-PUBLISHED-TTL:PT1H
BEGIN:VTIMEZONE
TZID:Europe/Amsterdam
BEGIN:DAYLIGHT
TZOFFSETFROM:+0100
TZOFFSETTO:+0200
TZNAME:CEST
DTSTART:20210328T010000
END:DAYLIGHT
BEGIN:STANDARD
TZOFFSETFROM:+0200
TZOFFSETTO:+0100
TZNAME:CET
DTSTART:20211031T010000
END:STANDARD
BEGIN:DAYLIGHT
TZOFFSETFROM:+0100
TZOFFSETTO:+0200
TZNAME:CEST
DTSTART:20220327T010000
END:DAYLIGHT
BEGIN:STANDARD
TZOFFSETFROM:+0200
TZOFFSETTO:+0100
TZNAME:CET
DTSTART:20221030T010000
END:STANDARD
BEGIN:DAYLIGHT
TZOFFSETFROM:+0100
TZOFFSETTO:+0200
TZNAME:CEST
DTSTART:20230326T010000
END:DAYLIGHT
BEGIN:STANDARD
TZOFFSETFROM:+0200
TZOFFSETTO:+0100
TZNAME:CET
DTSTART:20231029T010000
END:STANDARD
END:VTIMEZONE
BEGIN:VEVENT
DTSTART;TZID=Europe/Amsterdam:20220915T201500
DTEND;TZID=Europe/Amsterdam:20220915T220000
DTSTAMP:20260421T112236
CREATED:20220806T111438Z
LAST-MODIFIED:20220830T121127Z
UID:1408-1663272900-1663279200@laren-jazz.nl
SUMMARY:Jazzconcert Brinkhuis Laren - Thaïsa Olivia Quartet
DESCRIPTION:Jazzconcert Brinkhuis Laren – Thaïsa Olivia Quartet\nOp donderdag 15 september om 20:15 kunt u het Jazzconcert van het Thaïsa Olivia Quartet met saxofonist Don Braden uit New York bijwonen in het Brinkhuis Theater voor € 25 p.p. incl een drankje. \nDeze voorstelling stond gepland voor 9 april en is wegens omstandigheden verplaatst naar 15 september. \nOver Thaïsa Olivia\nThaïsa Olivia is een gepassioneerde jazz-zangeres en liedjesschrijfster\, met een warm\, eigen geluid en een bijzondere presentatie. Haar achtergrond is kleurrijk en veelzijdig\, haar optredens op uiteenlopende podia door de tijd heen evenzo. Mooie\, eigentijdse composities en uiteenlopende bewerkte jazzklassiekers wisselen elkaar af. Swingend\, verfijnd\, zinnelijk of bezinnend en altijd met bezieling en overtuiging gebracht. Haar kwartet-cd ‘Let Go’ kreeg lovende recensies in binnen- en buitenland. Op dit moment werkt zij aan een nieuw album met voornamelijk eigen werk. \nVrouw van de wereld\nThaïsa Olivia is ook een vrouw van de wereld. Ze is geboren in Amsterdam\, haar wortels liggen in zes verschillende landen en haar hart is verslingerd aan New York. Als klein meisje kwam zij er al\, in de voetsporen van haar voorouders op de Holland-Amerika-lijn. Sinds haar tienerjaren reist zij zelf geregeld af naar deze stad\, waar zij in 2013 op veelbelovende wijze vocaal debuteerde. Inmiddels is New York haar tweede thuis en is zij daar regelmatig op de jazzpodia te vinden.\nDe musici met wie zij werkt hebben allen hun muzikale sporen ruimschoots verdiend en niet voor niets ook een sterke band met New York. Ze hebben er lang gewoond en gewerkt of werden net als Thaïsa aangetrokken en geïnspireerd door deze adembenemende metropool\, vol energie\, contrasten\, uitdagingen en muzikale dromen\, die uitbundig of stilletjes verlaten tussen de wolkenkrabbers hangen. \nDon Braden\nHaar gastsolist vanavond is Don Braden – een saxofonist\, fluitist\, componist en docent van wereldformaat\, wiens jazz carrière een kleine 40 jaar beslaat. Hij toerde over de hele wereld met diverse jazzgrootheden\, speelt op meer dan 100 cd’s en heeft er 23 onder zijn eigen naam uitgebracht\, waaronder Earth Wind and Wonder\, In the Spirit of Herbie Hancock en Chemiatry\, samen met contrabassist Joris Teepe. Hij staat wereldwijd bekend als een spannende en interactieve jazzsolist\, een creatieve en productieve componist\, een gepassioneerde en energieke docent en specialist in het arrangeren en uitvoeren van klassieke\, populaire liedjes in een modern jazzjasje. \nRecensies\n“While there are many current singers who enjoy singing tunes out of the Great American Songbook in a traditional style\, others\, such as the talented singer Thaïsa Olivia\, prefer to move between the old and the new in their arrangements and vocal interpretations. Olivia brings her unique voice and personalized approach to jazz on her album Let Go\, and the results are absolutely first rate.” – Review You\, USA \n“Met de heldere klank van haar stem\, technische skills en vaardigheid om alle stemmingen rondom het laten gaan van geliefden te vertolken\, laat Thaïsa Olivia met dit album een diepe indruk na.”– RakenDra Smit\, Muziekwereld. \nBezetting:\nThaïsa Olivia – zang\nDon Braden – saxofoon\nChristian Doepke – piano\nJoris Teepe – contrabas\nGijs Dijkhuizen – drums \n\n  \nBoek je kaartje online!
URL:https://laren-jazz.nl/jazz-event/jazzconcert-brinkhuis-laren-thaisa-olivia-quartet/
LOCATION:Brinkhuis Laren\, Brink 29\, Laren\, 1251 KT\, Nederland
CATEGORIES:Jazz evenementen Laren
ATTACH;FMTTYPE=image/jpeg:https://laren-jazz.nl/wp-content/uploads/2022/08/Thaisa-Olivia-Quartet-15-sep-scaled.jpg
ORGANIZER;CN="Brinkhuis Laren":MAILTO:info@hartvanlaren.nl
END:VEVENT
END:VCALENDAR