BEGIN:VCALENDAR
VERSION:2.0
PRODID:-//Laren Jazz - Jazz festival Laren - ECPv6.15.20//NONSGML v1.0//EN
CALSCALE:GREGORIAN
METHOD:PUBLISH
X-ORIGINAL-URL:https://laren-jazz.nl
X-WR-CALDESC:Evenementen voor Laren Jazz - Jazz festival Laren
REFRESH-INTERVAL;VALUE=DURATION:PT1H
X-Robots-Tag:noindex
X-PUBLISHED-TTL:PT1H
BEGIN:VTIMEZONE
TZID:Europe/Amsterdam
BEGIN:DAYLIGHT
TZOFFSETFROM:+0100
TZOFFSETTO:+0200
TZNAME:CEST
DTSTART:20210328T010000
END:DAYLIGHT
BEGIN:STANDARD
TZOFFSETFROM:+0200
TZOFFSETTO:+0100
TZNAME:CET
DTSTART:20211031T010000
END:STANDARD
BEGIN:DAYLIGHT
TZOFFSETFROM:+0100
TZOFFSETTO:+0200
TZNAME:CEST
DTSTART:20220327T010000
END:DAYLIGHT
BEGIN:STANDARD
TZOFFSETFROM:+0200
TZOFFSETTO:+0100
TZNAME:CET
DTSTART:20221030T010000
END:STANDARD
BEGIN:DAYLIGHT
TZOFFSETFROM:+0100
TZOFFSETTO:+0200
TZNAME:CEST
DTSTART:20230326T010000
END:DAYLIGHT
BEGIN:STANDARD
TZOFFSETFROM:+0200
TZOFFSETTO:+0100
TZNAME:CET
DTSTART:20231029T010000
END:STANDARD
END:VTIMEZONE
BEGIN:VEVENT
DTSTART;TZID=Europe/Amsterdam:20221201T201500
DTEND;TZID=Europe/Amsterdam:20221201T220000
DTSTAMP:20260421T100003
CREATED:20220914T152138Z
LAST-MODIFIED:20220915T143104Z
UID:1760-1669925700-1669932000@laren-jazz.nl
SUMMARY:Jazz Trio Born - Brinkhuis Theater
DESCRIPTION:Jazz Trio BORN – 1 dec 2022\nJazz Trio BORN onder leiding van Born Sanders treedt op donderdag 1 december 2022 op in het Brinkhuis Theater in Laren. € 18.50 pp \nJazz trio BORN combineert een eigentijdse uitstraling en een catchy jazz sound met een flinke dosis “feelgood”-energie. De moderne grooves van het trio zijn zeer aanstekelijk en stilzitten is daardoor bijna geen optie. Jazz trio BORN frist oude klassiekers op\, maakt jazzy versies van bekende popliedjes en speelt en componeert eigen repertoire. De voorstelling draagt de titel “New Horizon”\, met hernieuwde energie de toekomst in. Het trio zal deze avond ook een aantal nieuwe composities ten gehore brengen. \nJazz trio Born:\n– Born Sanders: pianist\n– Bart Soeters: bassist\n– Peter Weissink: drummer \nBoek ticket online\nBook Online\nGet in the Mood\n\n  \n 
URL:https://laren-jazz.nl/jazz-event/jazz-trio-born-brinkhuis-theater/
LOCATION:Brinkhuis Laren\, Brink 29\, Laren\, 1251 KT\, Nederland
CATEGORIES:Jazz evenementen Laren
ATTACH;FMTTYPE=image/png:https://laren-jazz.nl/wp-content/uploads/2022/09/Jazz-Trio-BORN.png
END:VEVENT
END:VCALENDAR